0.11502052880497858
0.03196180153447855
0.03473094685213348
-0.11615783697680745
631567.64097333082
4838278.0701531423
