2.1150477031791928e-006
4.6884518707983993e-007
6.7199977755578799e-007
-1.5572212842148552e-006
-79.366398928609883
43.666749536629375
