2.1227230470175165e-006
4.1736441383635789e-007
5.5482533303148015e-007
-1.5646593468563862e-006
-79.36538030307382
43.664199315825201
