2.1485610257526498e-006
4.3974658626593103e-007
5.7728392823828805e-007
-1.5725694389556015e-006
-79.362916744076827
43.66471970040601
