2.1557061303896131e-006
4.6835937548088596e-007
6.5395374871118299e-007
-1.6076613667586409e-006
-79.359112979287175
43.662818148279783
