2.1520473963337389e-006
4.8139574699344109e-007
6.6927175113373232e-007
-1.5748698659145673e-006
-79.355912121319705
43.663626984862525
