0.17335208210877245
0.047799127081092442
0.045588931647461826
-0.17571669538070533
632074.59599014407
4835023.9103831258
