2.1360945008819736e-006
4.5493051399069902e-007
6.6012656148983263e-007
-1.6073089183128472e-006
-79.358094334443678
43.660011186426829
