0.41625172780163772
0
0
-0.41625172780163772
632734.63604235754
4835602.9340420598
