0.57255074844984388
0
0
-0.57255074844984388
632787.16964681249
4835728.4507906642
