0.33307448215677188
0.11836307911260376
0.11836307911260376
-0.33307448215677188
632318.22579970467
4834428.0201787697
