0.1757955214430261
0.051550476758937237
0.052818155443647485
-0.17643567812114963
632968.45186928927
4836376.9360764306
