0.17087650515963046
0.05595920904511166
0.055453939706954204
-0.17511240975625461
633016.58258637006
4835347.4853268843
