3.8652678981295879e-006
1.5572691332227439e-006
2.2703836897399006e-006
-2.8387446893134206e-006
-79.354576387968436
43.647593788440595
