0.17068039627252521
0.049636690900749333
0.054459617067725903
-0.17506123902039583
632954.43762695778
4837468.5711304639
