0.17387877237227323
0.053541456778486068
0.050301886848141755
-0.17511665533796406
631373.8346537489
4836394.3354267813
