0.16630441203445873
0.053711851859585248
0.055727799745527967
-0.17248589006271159
631918.77969040477
4836260.2541756434
