0.17606329578773408
0.055581418523111076
0.056732808357417022
-0.17606329577484586
631531.83762501855
4835790.4168207925
