0.18180821984778828
0.063440647090046112
0.05677951469359168
-0.17587066094484244
632438.39162671368
4835161.7188424719
