0.11530422887699969
0.040185568137655961
0.040576494454783223
-0.11450078317919218
632268.91399137396
4834761.3488214854
