0.17931852608817325
0.054370573759775991
0.055454449004616879
-0.17944973627088734
632566.68250033713
4834866.5479934067
