0.17189139903016626
0.0497281289745857
0.050622954087324243
-0.17660818234595527
632974.59079772921
4836380.5405773893
