0.1729122856029332
0.055149316106069705
0.054007465357048361
-0.17614964378233702
633160.74478594947
4835741.3793459451
