0.17068027164377517
0.059013541497388744
0.059073467701882196
-0.17760135845252184
633319.50714095787
4836132.5071591288
