0.09767678652639214
0.030735479945910627
0.031268668003549591
-0.09487159181814156
632068.16404305131
4835150.8801825587
