8.9895588723956086e-006
1.8734556200747402e-006
3.1951925190626749e-006
-7.1267157585367068e-006
-79.44529577664045
43.651895785572528
