0.70922131607289696
0.24475711480642073
0.28021687537727691
-0.81496667596621164
625439.24800646724
4834280.946667593
