1.8119459009468908
0.54867578973798359
0.54611990334416294
-1.7976775805965519
625812.45606359199
4835461.9353327313
