1.0743470000
0.0000000000
0.0000000000
-1.0743470000
628359.4634933770
4847065.2250498086
