0.13707832902507439
-5.3911728255389182
-5.3470796100372882
-0.10407000308433582
665509.1182396306
4849891.0372159136
