0.17298922281584789
0.055203320121576145
0.058117409094835516
-0.17265407676783323
631917.0285297893
4836256.3296449492
