0.11348469804958612
0.037613858305515141
0.037647712905121103
-0.11698300493662402
631361.76713796367
4835338.5478782365
