2.1502381449640747e-006
4.2856046958395894e-007
6.4681162350822042e-007
-1.5651593883821649e-006
-79.357074221153056
43.666567781598282
