0.17307767750906344
0.053681005250591142
0.054551865641252223
-0.17552436403411656
632171.68952040654
4835388.61839836
