2.1609694025792345e-006
4.0219432022039409e-007
5.1409646575740497e-007
-1.6069356641561719e-006
-79.362018535665555
43.656551399676935
