2.2844623866901566e-006
0
0
-2.2844623866901566e-006
-79.360726314271929
43.66033005718721
