2.1790250001928443e-006
4.8173792839513814e-007
6.6565734590409342e-007
-1.6268799755204062e-006
-79.356012718721317
43.654855298600772
