0.30900147503840897
0.17858885052124568
0.18217038466946955
-0.31576481854408639
632704.99549649144
4834054.8744757175
