0.31226822319090175
0.18318216455966388
0.17882696289429265
-0.30716037850679045
633173.38271067967
4834422.3714273386
