0.173600946839644
0.054818248658647505
0.053625942860655175
-0.17570232861783586
633166.89587393613
4836811.796408331
