0.17307683583564631
0.0535641972370451
0.053290589117805133
-0.17497538043423208
631175.16120711656
4836242.9755837815
