0.17441705535833951
0.052744213458923085
0.053639296864568864
-0.17379111323476801
631065.14758157695
4835870.1726573948
