0.17127533567725423
0.056966025742954618
0.056966025742954618
-0.17127533567725423
631369.88791604899
4835317.6021307539
