0.16996900395820169
0.054164348972453868
0.054668551319634794
-0.17579434240814279
631964.04968378239
4835942.000411489
