0.20898697441443637
0.06627502314245777
0.074512219552070796
-0.2231887059756644
633588.30991911644
4835195.3805947807
