0.095075322638748891
0.031621223038427897
0.031695955803984974
-0.095323738670389083
631580.63119292737
4837103.2474067835
