0.98900269595601198
0.31818690324591375
0.31865513648835647
-0.97635938304406911
624876.33661267383
4837564.3916001087
