2.7995531043097539e-005
6.635528108819081e-006
7.4111081200974858e-006
-1.8538512534639856e-005
-79.446630314304201
43.653510570465528
