2.6749357352608332
0.028942537273164311
0.023178516981174929
-2.6793015915811957
615341.35954032163
4849574.6278489707
