4.6311392916128545e-005
1.4199223677227086e-005
1.9840499245099698e-005
-3.4587500490390159e-005
-79.470462888495291
43.795129479596866
